BEGIN:VCALENDAR
VERSION:2.0
PRODID:-//Workers and the World Unite - ECPv5.9.1//NONSGML v1.0//EN
CALSCALE:GREGORIAN
METHOD:PUBLISH
X-WR-CALNAME:Workers and the World Unite
X-ORIGINAL-URL:https://pro-act.dsausa.org
X-WR-CALDESC:Events for Workers and the World Unite
BEGIN:VTIMEZONE
TZID:UTC
BEGIN:STANDARD
TZOFFSETFROM:+0000
TZOFFSETTO:+0000
TZNAME:UTC
DTSTART:20210101T000000
END:STANDARD
END:VTIMEZONE
BEGIN:VEVENT
DTSTART;TZID=UTC:20210501T100000
DTEND;TZID=UTC:20210501T170000
DTSTAMP:20211021T183717
CREATED:20210427T024707Z
LAST-MODIFIED:20210427T235411Z
UID:2873-1619863200-1619888400@pro-act.dsausa.org
SUMMARY:May Day March for PRO Act\, Immigrant Rights\, and End to Police Violence
DESCRIPTION:Join coalition partners for a May Day March demanding the passage of the PRO Act\, Immigrant rights\, and an end to police violence! \n  \nCoalition\nBlack Lives Matter – Chicago\, Freedom Road Socialist Organization\, Arab American Action Network\, US Palestinian Community Network\, National Alliance for Filipino Concerns\, Anakbayan – Chicago\, International League for Peoples Struggles\, Centro Sin Fronteras/Familia Latina Unida\, Jobs with Justice\, Students for a Democratic Society – UIC\, SEIU Local 73\, Illinois Coalition for Immigrant and Refugee Rights\, and Chicago Alliance Against Racist & Political Repression.
URL:https://pro-act.dsausa.org/event/may-day-march-for-pro-act-immigrant-rights-and-end-to-police-violence/
LOCATION:Chicago\, 1501 Randolp St\, Chicago\, IL\, 60606\, United States
CATEGORIES:May Day Event
ATTACH;FMTTYPE=image/jpeg:https://pro-act.dsausa.org/files/sites/25/2021/04/Chicago.jpg
ORGANIZER;CN="Chicago%20Chapter":MAILTO:labor@chicagodsa.org
END:VEVENT
END:VCALENDAR